BEGIN:VCALENDAR
VERSION:2.0
METHOD:PUBLISH
BEGIN:VEVENT
DTSTAMP:20260421T032729Z
DTSTART:20210525T180000Z
DTEND:20210525T190000Z
SUMMARY:Learn how to file a report online
LOCATION:Microsoft Teams, link will be provided the day of the event, check back here
END:VEVENT
END:VCALENDAR
